BEGIN:VCALENDAR
VERSION:2.0
PRODID:-//wp-events-plugin.com//7.2.3.1//EN
TZID:Europe/Berlin
X-WR-TIMEZONE:Europe/Berlin
BEGIN:VEVENT
UID:87@seniorennetzwerke-koeln.de
DTSTART;TZID=Europe/Berlin:20240502T150000
DTEND;TZID=Europe/Berlin:20240502T160000
DTSTAMP:20240502T112858Z
URL:https://seniorennetzwerke-koeln.de/events/anti-aging-fuer-die-stimme/
SUMMARY:Anti Aging für die Stimme
DESCRIPTION:
CATEGORIES:Gemeinschaftliche Aktivitäten
LOCATION:Matthias Pullem Haus\, Grüner Weg 23\, 50999\, NRW\, 50999\, Köl
 n\, Deutschland
X-APPLE-STRUCTURED-LOCATION;VALUE=URI;X-ADDRESS=Grüner Weg 23\, 50999\, NR
 W\, 50999\, Köln\, Deutschland;X-APPLE-RADIUS=100;X-TITLE=Matthias Pullem
  Haus:geo:0,0
END:VEVENT
BEGIN:VTIMEZONE
TZID:Europe/Berlin
X-LIC-LOCATION:Europe/Berlin
BEGIN:DAYLIGHT
DTSTART:20240331T030000
TZOFFSETFROM:+0100
TZOFFSETTO:+0200
TZNAME:CEST
END:DAYLIGHT
END:VTIMEZONE
END:VCALENDAR