BEGIN:VCALENDAR
VERSION:2.0
PRODID:-//wp-events-plugin.com//7.2.3.1//EN
TZID:Europe/Berlin
X-WR-TIMEZONE:Europe/Berlin
BEGIN:VEVENT
UID:89@seniorennetzwerke-koeln.de
DTSTART;TZID=Europe/Berlin:20240604T140000
DTEND;TZID=Europe/Berlin:20240604T163000
DTSTAMP:20240516T101518Z
URL:https://seniorennetzwerke-koeln.de/events/digitaltag-ehrenfeld/
SUMMARY:Digitaltag Ehrenfeld
DESCRIPTION:Digitaltag in Neuherenfeld am 04.06.204
CATEGORIES:Gemeinschaftliche Aktivitäten
LOCATION:Nachbarschaftshaus\, Ansgarstr. 5\, 50825 Köln\, NRW\, 50825\, De
 utschland
X-APPLE-STRUCTURED-LOCATION;VALUE=URI;X-ADDRESS=Ansgarstr. 5\, 50825 Köln\
 , NRW\, 50825\, Deutschland;X-APPLE-RADIUS=100;X-TITLE=Nachbarschaftshaus:
 geo:0,0
END:VEVENT
BEGIN:VTIMEZONE
TZID:Europe/Berlin
X-LIC-LOCATION:Europe/Berlin
BEGIN:DAYLIGHT
DTSTART:20240331T030000
TZOFFSETFROM:+0100
TZOFFSETTO:+0200
TZNAME:CEST
END:DAYLIGHT
END:VTIMEZONE
END:VCALENDAR