BEGIN:VCALENDAR
VERSION:2.0
PRODID:-//wp-events-plugin.com//7.2.3.1//EN
TZID:Europe/Berlin
X-WR-TIMEZONE:Europe/Berlin
BEGIN:VEVENT
UID:99@seniorennetzwerke-koeln.de
DTSTART;TZID=Europe/Berlin:20241116T100000
DTEND;TZID=Europe/Berlin:20241116T120000
DTSTAMP:20241021T082212Z
URL:https://seniorennetzwerke-koeln.de/events/fuehrung-durch-den-koelner-h
 auptbahnhof/
SUMMARY:Führung durch den Kölner Hauptbahnhof
DESCRIPTION:[caption id="attachment_6792" align="alignright" width="300"] F
 lyer DTVK SNWSeeberg Mobil im Alter[/caption]\n\nMobil im Alter:\n\nBAHNFA
 HREN...\n...WIE GEHT DAS?\nFahrkartenkauf? Gepäck? Rollator oder Rollstuh
 l? Zug verpasst?\nWir machen eine Führung durch den Kölner Hauptbahnhof\
 nWann? Samstag\, 16.11.2024\, ab 10:00 Uhr\nWo? Treffpunkt ist im Hauptbah
 nhof Köln\, 50667 Köln\, Gleis 1E Bahnhofsmission\nKostenlos\, begrenzte
  Plätze\nMit Anmeldung im SeniorenNetzwerk Seeberg Tel. Nr. 0221/12613711
 \n\nKontakt:\nJennifer Suckow | Koordination SeniorenNetzwerk Seeberg\nTel
 . Nr. 0221/12613711\nDTVK e.V. | Interkulturelles Zentrum und Bildungswerk
 \nAbendrothstraße 20\, Köln Seeberg\nEmail: j.suckow@dtvk.de\nWeb: dtvk.
 de | Social Media: @dtvk.ev
CATEGORIES:Ausflüge und Exkursionen,Fort- und
 Weiterbildung,Gemeinschaftliche Aktivitäten
END:VEVENT
BEGIN:VTIMEZONE
TZID:Europe/Berlin
X-LIC-LOCATION:Europe/Berlin
BEGIN:STANDARD
DTSTART:20241027T020000
TZOFFSETFROM:+0200
TZOFFSETTO:+0100
TZNAME:CET
END:STANDARD
END:VTIMEZONE
END:VCALENDAR