BEGIN:VCALENDAR
VERSION:2.0
PRODID:-//wp-events-plugin.com//7.2.3.1//EN
TZID:Europe/Berlin
X-WR-TIMEZONE:Europe/Berlin
BEGIN:VEVENT
UID:83@seniorennetzwerke-koeln.de
DTSTART;TZID=Europe/Berlin:20240417T100000
DTEND;TZID=Europe/Berlin:20240417T120000
DTSTAMP:20240322T092343Z
URL:https://seniorennetzwerke-koeln.de/events/infoveranstaltung-vorsorgevo
 llmacht-und-patientinnenverfuegung-fuer-den-bezirk-nippes/
SUMMARY:Infoveranstaltung Vorsorgevollmacht und Patient*innenverfügung fü
 r den Bezirk Nippes
DESCRIPTION: 
CATEGORIES:Vorträge
LOCATION:Scheune\, Bürgerzentrum Nippes - Altenberger Hof\, Mauenheimer St
 raße 92\, 50733\, Deutschland
X-APPLE-STRUCTURED-LOCATION;VALUE=URI;X-ADDRESS=Mauenheimer Straße 92\, 50
 733\, Deutschland;X-APPLE-RADIUS=100;X-TITLE=Scheune\, Bürgerzentrum Nipp
 es - Altenberger Hof:geo:0,0
END:VEVENT
BEGIN:VTIMEZONE
TZID:Europe/Berlin
X-LIC-LOCATION:Europe/Berlin
BEGIN:DAYLIGHT
DTSTART:20240331T030000
TZOFFSETFROM:+0100
TZOFFSETTO:+0200
TZNAME:CEST
END:DAYLIGHT
END:VTIMEZONE
END:VCALENDAR