BEGIN:VCALENDAR
VERSION:2.0
PRODID:-//wp-events-plugin.com//7.2.3.1//EN
TZID:Europe/Berlin
X-WR-TIMEZONE:Europe/Berlin
BEGIN:VEVENT
UID:95@seniorennetzwerke-koeln.de
DTSTART;TZID=Europe/Berlin:20240725T140000
DTEND;TZID=Europe/Berlin:20240725T160000
DTSTAMP:20240724T124450Z
URL:https://seniorennetzwerke-koeln.de/events/kleidertausch/
SUMMARY:Kleidertausch
DESCRIPTION:Herzliche Einladung zum kostenlosen Kleidertausch bei Kaffee &a
 mp\; Kuchen im SeniorenNetzwerk Altstadt-Süd / Waidmarkt.\n&nbsp\;\nDer U
 mwelt zuliebe tauschen statt neu zu kaufen.
CATEGORIES:Kleidertausch,Sonstige
LOCATION:SeniorenNetzwerk Altstadt-Süd / Waidmarkt\, Waidmarkt 24\, Köln\
 , NRW\, 50676\, Deutschland
X-APPLE-STRUCTURED-LOCATION;VALUE=URI;X-ADDRESS=Waidmarkt 24\, Köln\, NRW\
 , 50676\, Deutschland;X-APPLE-RADIUS=100;X-TITLE=SeniorenNetzwerk Altstadt
 -Süd / Waidmarkt:geo:0,0
END:VEVENT
BEGIN:VTIMEZONE
TZID:Europe/Berlin
X-LIC-LOCATION:Europe/Berlin
BEGIN:DAYLIGHT
DTSTART:20240331T030000
TZOFFSETFROM:+0100
TZOFFSETTO:+0200
TZNAME:CEST
END:DAYLIGHT
END:VTIMEZONE
END:VCALENDAR