BEGIN:VCALENDAR
VERSION:2.0
PRODID:-//wp-events-plugin.com//7.2.3.1//EN
TZID:Europe/Berlin
X-WR-TIMEZONE:Europe/Berlin
BEGIN:VEVENT
UID:78@seniorennetzwerke-koeln.de
DTSTART;TZID=Europe/Berlin:20240318T140000
DTEND;TZID=Europe/Berlin:20240318T160000
DTSTAMP:20240306T071357Z
URL:https://seniorennetzwerke-koeln.de/events/osterbasar/
SUMMARY:Osterbasar
DESCRIPTION:Das SeniorenNetzwerk Riehl lädt ein zum Osterbasar!\nFreuen Si
 e sich auf selbstgemachte Ostergestecke\, Handarbeiten unserer Kreativgrup
 pe und viele weitere liebevoll gestaltete Deko- und Geschenkideen!\nKaffee
  und Kuchen runden das vielfältige Angebot ab. Kommen Sie gerne vorbei!
CATEGORIES:Sonstige
LOCATION:Riehler Treff\, Boltensternstraße 16\, Köln\, 50735\, Deutschlan
 d
X-APPLE-STRUCTURED-LOCATION;VALUE=URI;X-ADDRESS=Boltensternstraße 16\, Kö
 ln\, 50735\, Deutschland;X-APPLE-RADIUS=100;X-TITLE=Riehler Treff:geo:0,0
END:VEVENT
BEGIN:VTIMEZONE
TZID:Europe/Berlin
X-LIC-LOCATION:Europe/Berlin
BEGIN:STANDARD
DTSTART:20231029T020000
TZOFFSETFROM:+0200
TZOFFSETTO:+0100
TZNAME:CET
END:STANDARD
END:VTIMEZONE
END:VCALENDAR