BEGIN:VCALENDAR
VERSION:2.0
PRODID:-//wp-events-plugin.com//7.2.3.1//EN
TZID:Europe/Berlin
X-WR-TIMEZONE:Europe/Berlin
BEGIN:VEVENT
UID:102@seniorennetzwerke-koeln.de
DTSTART;TZID=Europe/Berlin:20241112T100000
DTEND;TZID=Europe/Berlin:20241112T120000
DTSTAMP:20241107T160131Z
URL:https://seniorennetzwerke-koeln.de/events/stadtteilfruehstueck/
SUMMARY:Stadtteilfrühstück
DESCRIPTION:für Senior*innen aus Köln und aus aller Welt\n&nbsp\;\nkosten
 loses Angebot - bitte 1 Woche vorher anmelden bei Tanja Gast\, Tel.: 0178-
  90 94 710\n&nbsp\;
CATEGORIES:Gemeinschaftliche Aktivitäten
LOCATION:Pfarrsaal St. Georg\, Georgstr. 8\, Köln\, NRW\, 50676\, Köln\, 
 Deutschland
X-APPLE-STRUCTURED-LOCATION;VALUE=URI;X-ADDRESS=Georgstr. 8\, Köln\, NRW\,
  50676\, Köln\, Deutschland;X-APPLE-RADIUS=100;X-TITLE=Pfarrsaal St. Geor
 g:geo:0,0
END:VEVENT
BEGIN:VTIMEZONE
TZID:Europe/Berlin
X-LIC-LOCATION:Europe/Berlin
BEGIN:STANDARD
DTSTART:20241027T020000
TZOFFSETFROM:+0200
TZOFFSETTO:+0100
TZNAME:CET
END:STANDARD
END:VTIMEZONE
END:VCALENDAR