BEGIN:VCALENDAR
VERSION:2.0
PRODID:-//wp-events-plugin.com//7.2.3.1//EN
TZID:Europe/Berlin
X-WR-TIMEZONE:Europe/Berlin
BEGIN:VEVENT
UID:80@seniorennetzwerke-koeln.de
DTSTART;TZID=Europe/Berlin:20240427T110000
DTEND;TZID=Europe/Berlin:20240427T150000
DTSTAMP:20240306T072408Z
URL:https://seniorennetzwerke-koeln.de/events/unterwegs-im-alter-aber-sich
 er/
SUMMARY:"Unterwegs im Alter – aber sicher!"
DESCRIPTION:Unter dem Motto "Unterwegs im Alter – aber sicher!" können
  sich Kölner Senior*innen und ihre Familien auch dieses Jahr wieder rund
  um das Thema Sicherheit und vorbeugende Maßnahmen im Alltag informieren 
 und aktiv beteiligen:\nLassen Sie sich im Thielenbrucher Straßenbahn-Muse
 um zu Themen wie Betrugsmaschen und Vorsorgevollmacht beraten\, testen
  Sie Ihre Reaktionszeit am Pedelec-Simulator (umgangssprachlich: E-Bike)
 \, trainieren Sie die Fahrt mit Rollator direkt vor Ort in der Stadtbahn
  oder verknüpfen Sie sich mit dem Kölner Netzwerk für ein gutes Älte
 rwerden in Ihrem Veedel. Auch die SeniorenNetzwerke sind mit einem eigenen
  Stand vertreten und freuen sich auf Ihren Besuch!\nNeben Beratungen und A
 ktionen können Sie sich bei einer Kaffeepause austauschen\, eine Führ
 ung durch das Straßenbahn-Museum machen oder dem Auftritt des KVB-Orche
 sters lauschen.\nDas gesamte Programm des Infotages finden Sie auf der Se
 ite der Stadt Köln.
CATEGORIES:Messen
LOCATION:Straßenbahn-Museum Thielenbruch\, Otto-Kayser-Straße 2c (Eingang
 : Gemarkenstraße 173)\, Köln\, 51069\, Deutschland
X-APPLE-STRUCTURED-LOCATION;VALUE=URI;X-ADDRESS=Otto-Kayser-Straße 2c (Ein
 gang: Gemarkenstraße 173)\, Köln\, 51069\, Deutschland;X-APPLE-RADIUS=10
 0;X-TITLE=Straßenbahn-Museum Thielenbruch:geo:0,0
END:VEVENT
BEGIN:VTIMEZONE
TZID:Europe/Berlin
X-LIC-LOCATION:Europe/Berlin
BEGIN:DAYLIGHT
DTSTART:20240331T030000
TZOFFSETFROM:+0100
TZOFFSETTO:+0200
TZNAME:CEST
END:DAYLIGHT
END:VTIMEZONE
END:VCALENDAR