BEGIN:VCALENDAR
VERSION:2.0
PRODID:-//wp-events-plugin.com//7.2.3.1//EN
TZID:Europe/Berlin
X-WR-TIMEZONE:Europe/Berlin
BEGIN:VEVENT
UID:70@seniorennetzwerke-koeln.de
DTSTART;TZID=Europe/Berlin:20231026T140000
DTEND;TZID=Europe/Berlin:20231026T180000
DTSTAMP:20230801T153127Z
URL:https://seniorennetzwerke-koeln.de/events/vielfalt-infotag-rund-ums-ae
 lterwerden/
SUMMARY:VielfALT - Infotag rund ums Älterwerden
DESCRIPTION:VielfALT - Infotag rund ums Älterwerden\, 26.10.2023\, Bürger
 zentrum Chorweiler\, Großer Saal\, Pariser Platz 1
CATEGORIES:Messen
LOCATION:Bürgerzentrum Chorweiler\, Großer Saal\, Pariser Platz 1\, Köln
 \, NRW\, 50765 \, Deutschland
X-APPLE-STRUCTURED-LOCATION;VALUE=URI;X-ADDRESS=Pariser Platz 1\, Köln\, N
 RW\, 50765 \, Deutschland;X-APPLE-RADIUS=100;X-TITLE=Bürgerzentrum Chorwe
 iler\, Großer Saal:geo:0,0
END:VEVENT
BEGIN:VTIMEZONE
TZID:Europe/Berlin
X-LIC-LOCATION:Europe/Berlin
BEGIN:DAYLIGHT
DTSTART:20230326T030000
TZOFFSETFROM:+0100
TZOFFSETTO:+0200
TZNAME:CEST
END:DAYLIGHT
END:VTIMEZONE
END:VCALENDAR