BEGIN:VCALENDAR
VERSION:2.0
PRODID:-//wp-events-plugin.com//7.2.3.1//EN
TZID:Europe/Berlin
X-WR-TIMEZONE:Europe/Berlin
BEGIN:VEVENT
UID:94@seniorennetzwerke-koeln.de
DTSTART;TZID=Europe/Berlin:20240919T140000
DTEND;TZID=Europe/Berlin:20240919T180000
DTSTAMP:20240703T083102Z
URL:https://seniorennetzwerke-koeln.de/events/vielfalt-senioreninfotag-in-
 chorweiler/
SUMMARY:VielfALT - Senioreninfotag in Chorweiler
DESCRIPTION:[caption id="attachment_6174" align="alignnone" width="724"] Fl
 yer Senioreninfotag VielfALT in Chorweiler 2024_Flyer A4_JPG-Datei[/captio
 n]
CATEGORIES:Messen,Vorträge
LOCATION:Bürgerzentrum Chorweiler\, Großer Saal\, Pariser Platz 1\, Köln
 \, NRW\, 50765 \, Deutschland
X-APPLE-STRUCTURED-LOCATION;VALUE=URI;X-ADDRESS=Pariser Platz 1\, Köln\, N
 RW\, 50765 \, Deutschland;X-APPLE-RADIUS=100;X-TITLE=Bürgerzentrum Chorwe
 iler\, Großer Saal:geo:0,0
END:VEVENT
BEGIN:VTIMEZONE
TZID:Europe/Berlin
X-LIC-LOCATION:Europe/Berlin
BEGIN:DAYLIGHT
DTSTART:20240331T030000
TZOFFSETFROM:+0100
TZOFFSETTO:+0200
TZNAME:CEST
END:DAYLIGHT
END:VTIMEZONE
END:VCALENDAR