BEGIN:VCALENDAR
VERSION:2.0
PRODID:-//wp-events-plugin.com//7.2.3.1//EN
TZID:Europe/Berlin
X-WR-TIMEZONE:Europe/Berlin
BEGIN:VEVENT
UID:162@seniorennetzwerke-koeln.de
DTSTART;TZID=Europe/Berlin:20260505T153000
DTEND;TZID=Europe/Berlin:20260505T170000
DTSTAMP:20260423T083735Z
URL:https://seniorennetzwerke-koeln.de/events/vortrag-zum-thema-demenz/
SUMMARY:SNW Raderthal: Vortrag zum Thema Demenz
DESCRIPTION:\n&nbsp\;\n&nbsp\;\n&nbsp\;\nGut vorbereitet im Umgang mit Deme
 nz: Informationen für Betroffene und Angehörige\nNur mit Anmeldung: Inna
  Achmatow\, 0152 090 926 12 oder achmatow@awo-koeln.de\n&nbsp\;
CATEGORIES:Gemeinschaftliche Aktivitäten
LOCATION:Mietercafé KBG\, Bliesheimer Str. (gegenüber Hausnr. 3-7)\, Köl
 n Raderthal\, 50968\, Deutschland
X-APPLE-STRUCTURED-LOCATION;VALUE=URI;X-ADDRESS=Bliesheimer Str. (gegenübe
 r Hausnr. 3-7)\, Köln Raderthal\, 50968\, Deutschland;X-APPLE-RADIUS=100;
 X-TITLE=Mietercafé KBG:geo:0,0
END:VEVENT
BEGIN:VTIMEZONE
TZID:Europe/Berlin
X-LIC-LOCATION:Europe/Berlin
BEGIN:DAYLIGHT
DTSTART:20260329T030000
TZOFFSETFROM:+0100
TZOFFSETTO:+0200
TZNAME:CEST
END:DAYLIGHT
END:VTIMEZONE
END:VCALENDAR